BEGIN:VCALENDAR
VERSION:2.0
PRODID:-//Clarion County - ECPv6.15.20//NONSGML v1.0//EN
CALSCALE:GREGORIAN
METHOD:PUBLISH
X-ORIGINAL-URL:https://discoverclarioncounty.com
X-WR-CALDESC:Events for Clarion County
REFRESH-INTERVAL;VALUE=DURATION:PT1H
X-Robots-Tag:noindex
X-PUBLISHED-TTL:PT1H
BEGIN:VTIMEZONE
TZID:America/New_York
BEGIN:DAYLIGHT
TZOFFSETFROM:-0500
TZOFFSETTO:-0400
TZNAME:EDT
DTSTART:20250309T070000
END:DAYLIGHT
BEGIN:STANDARD
TZOFFSETFROM:-0400
TZOFFSETTO:-0500
TZNAME:EST
DTSTART:20251102T060000
END:STANDARD
BEGIN:DAYLIGHT
TZOFFSETFROM:-0500
TZOFFSETTO:-0400
TZNAME:EDT
DTSTART:20260308T070000
END:DAYLIGHT
BEGIN:STANDARD
TZOFFSETFROM:-0400
TZOFFSETTO:-0500
TZNAME:EST
DTSTART:20261101T060000
END:STANDARD
BEGIN:DAYLIGHT
TZOFFSETFROM:-0500
TZOFFSETTO:-0400
TZNAME:EDT
DTSTART:20270314T070000
END:DAYLIGHT
BEGIN:STANDARD
TZOFFSETFROM:-0400
TZOFFSETTO:-0500
TZNAME:EST
DTSTART:20271107T060000
END:STANDARD
END:VTIMEZONE
BEGIN:VEVENT
DTSTART;TZID=America/New_York:20260501T190000
DTEND;TZID=America/New_York:20260501T194500
DTSTAMP:20260422T062139
CREATED:20260413T192858Z
LAST-MODIFIED:20260413T192858Z
UID:8170-1777662000-1777664700@discoverclarioncounty.com
SUMMARY:Peirce Planetarium: Dawn of Astronomy
DESCRIPTION:Dawn of Astronomy is a 45-minute show that traces the beginnings of astronomy in ancient Egypt and Britain. We will journey to the Pyramids of Egypt\, the crumbling ziggurats of Babylon\, and the mysterious Stonehenge. This show is free and open to everyone. \nPennWest Clarion’s Peirce Planetarium offers you a glimpse of the stars and planets of the night sky. It does so with its 40-foot dome\, one of the largest in the state. \nAt the heart of the planetarium is a precision-engineered star ball that combines optical and electro-mechanical technology to provide an accurate view of the night sky and its apparent motion. \nThe planetarium is useful in providing education to faculty\, students and the public as star gazers have an opportunity to see their favorite constellations at any hour of the day. The planetarium can be used to show the night sky as it would appear at any point in time\, past or present\, as it would appear from any point on Earth. \nThe planetarium is handicapped-accessible. Parking is available in Lot 12\, behind Marwick-Boyd\, and Lot 11\, across from Tippin Gymnasium. Doors open at 6:30 p.m. For information\, call 814-393-2085.
URL:https://discoverclarioncounty.com/event/peirce-planetarium-dawn-of-astronomy-2026/
LOCATION:Peirce Planetarium\, Greenville Ave\, Clarion\, PA\, 16214
ATTACH;FMTTYPE=image/jpeg:https://discoverclarioncounty.com/wp-content/uploads/2025/03/peirce-planetarium.jpg
END:VEVENT
BEGIN:VEVENT
DTSTART;TZID=America/New_York:20260501T201500
DTEND;TZID=America/New_York:20260501T211500
DTSTAMP:20260422T062139
CREATED:20260415T161103Z
LAST-MODIFIED:20260415T161137Z
UID:8220-1777666500-1777670100@discoverclarioncounty.com
SUMMARY:Cook Forest: Full Moon "Rock Your Chakras" Experience
DESCRIPTION:The Hush & Hum Meditation Center will be hosting a one hour session of crystal and Himalayan singing bowls in Cook Forest State Park on May 1st\, 2026. The event will be focused on your chakras in honor of the full moon. \nSpace is limited\, so be sure to reach out as soon as possible! The exact meeting location will be sent to registrants ahead of the event. \nReserve your spot by emailing hushandhumsoundbaths@gmail.com
URL:https://discoverclarioncounty.com/event/cook-forest-full-moon-rock-your-chakras-experience/
LOCATION:Cook Forest State Park\, 100 RT 36\, Cooksburg\, PA\, 16217\, United States
ATTACH;FMTTYPE=image/jpeg:https://discoverclarioncounty.com/wp-content/uploads/2026/04/hush-and-hum.jpg
END:VEVENT
BEGIN:VEVENT
DTSTART;VALUE=DATE:20260507
DTEND;VALUE=DATE:20260510
DTSTAMP:20260422T062139
CREATED:20260413T192318Z
LAST-MODIFIED:20260413T192346Z
UID:8166-1778112000-1778371199@discoverclarioncounty.com
SUMMARY:2026 Sawmill Center for the Arts: Spring Dance Showcase
DESCRIPTION:May 7th & 8th at 6pm and May 9th at 1pm \nPresented by Van Dyke and Company and featuring the Mahoning Valley Ballet at the Sawmill Center for the Arts. Come see the first show of the Verna Leith Theater’s season! \nFor tickets\, call 814-927-6655
URL:https://discoverclarioncounty.com/event/2026-sawmill-center-for-the-arts-spring-dance-showcase/
LOCATION:Sawmill Center for the Arts\, 140-170 Theatre Lane\, Cooksburg\, 16217\, United States
ATTACH;FMTTYPE=image/jpeg:https://discoverclarioncounty.com/wp-content/uploads/2026/04/spring-dance-showcase-poster.jpg
END:VEVENT
BEGIN:VEVENT
DTSTART;VALUE=DATE:20260508
DTEND;VALUE=DATE:20260510
DTSTAMP:20260422T062139
CREATED:20260202T194438Z
LAST-MODIFIED:20260202T194438Z
UID:7391-1778198400-1778371199@discoverclarioncounty.com
SUMMARY:Appalachian Mountain STOL
DESCRIPTION:Bring the whole family and come out to the Clarion County Airport for an action packed day of competitive flying. This exhilarating aviation fly-in and STOL (short takeoff and landing) competition is set to take place at the Clarion airport! Pilots from various backgrounds will converge to demonstrate their aircraft’s impressive capabilities. Airfield camping is available for a truly unique weekend. \nMore information on its way!
URL:https://discoverclarioncounty.com/event/appalachian-mountain-stol-2026/
LOCATION:Clarion Airport\, 395 Airport Rd\, Shippenville\, PA\, 16254\, United States
ATTACH;FMTTYPE=image/jpeg:https://discoverclarioncounty.com/wp-content/uploads/2026/02/AppalachianMountainSTOL_August2025_160.jpg
END:VEVENT
BEGIN:VEVENT
DTSTART;TZID=America/New_York:20260508T170000
DTEND;TZID=America/New_York:20260508T200000
DTSTAMP:20260422T062139
CREATED:20260107T182844Z
LAST-MODIFIED:20260107T183056Z
UID:7156-1778259600-1778270400@discoverclarioncounty.com
SUMMARY:12th Annual Cheers\, Beers\, & Wine Walk
DESCRIPTION:Explore the best of Western Pennsylvania’s wines\, microbrews\, and spirits! Join us on Main Street in Clarion\, PA for an unforgettable evening of delicious fun\, featuring samples from over 22 local vendors. For the full list of vendors and event details\, check out the link below. More information to come on tickets! \nThis event is hosted by Clarion Chamber of Business and Industry. \nSee Last Year’s Schedule
URL:https://discoverclarioncounty.com/event/12th-annual-cheers-beers-wine-walk/
LOCATION:Downtown Clarion\, Clarion\, PA\, 16214\, United States
ATTACH;FMTTYPE=image/jpeg:https://discoverclarioncounty.com/wp-content/uploads/2025/03/pexels-ana-iherina-294199183-13229769.jpg
ORGANIZER;CN="Clarion Area Chamber of Commerce":MAILTO:info@ClarionPA.com
END:VEVENT
BEGIN:VEVENT
DTSTART;VALUE=DATE:20260509
DTEND;VALUE=DATE:20260518
DTSTAMP:20260422T062139
CREATED:20260302T182345Z
LAST-MODIFIED:20260303T202248Z
UID:7834-1778284800-1779062399@discoverclarioncounty.com
SUMMARY:Basecamp to Trails Week
DESCRIPTION:Visit designated trailheads to collect stamp throughout the week of May 9-17. Hike\, bike\, stroll\, or cruise along at the pace that fits you best. Each stamp is equal to an entry in a raffle. \nFinal schedule to be announced in the coming weeks!
URL:https://discoverclarioncounty.com/event/basecamp-to-trails-week/
LOCATION:Rustic Acres RV Resort & Campground\, 634 Pine Terrace Rd\, Shippenville\, PA
ATTACH;FMTTYPE=image/jpeg:https://discoverclarioncounty.com/wp-content/uploads/2026/03/iStock-842457544.jpg
END:VEVENT
BEGIN:VEVENT
DTSTART;TZID=America/New_York:20260509T100000
DTEND;TZID=America/New_York:20260509T140000
DTSTAMP:20260422T062139
CREATED:20260220T213645Z
LAST-MODIFIED:20260223T152957Z
UID:7718-1778320800-1778335200@discoverclarioncounty.com
SUMMARY:Moms and Mimosas Mother's Day Celebration @ Zacherl's
DESCRIPTION:Calling all mothers\, sisters\, aunts\, and grandmothers– come to Zacherl’s Farm & Market to browse local products and vendors– including a permanent jewelry business and a tiny tattoo artist–enjoy treats\, and create either a hanging basket or planter. This event is at no cost and doesn’t require registration!
URL:https://discoverclarioncounty.com/event/moms-and-mimosas-mothers-day-celebration-zacherls/
LOCATION:Zacherl’s Farm Market & Greenhouse\, 164 Zacherl Ln\, Shippenville\, PA
ATTACH;FMTTYPE=image/png:https://discoverclarioncounty.com/wp-content/uploads/2026/02/Zacherls_September2025_041.png
END:VEVENT
BEGIN:VEVENT
DTSTART;TZID=America/New_York:20260509T130000
DTEND;TZID=America/New_York:20260509T143000
DTSTAMP:20260422T062139
CREATED:20260416T175348Z
LAST-MODIFIED:20260420T202031Z
UID:8233-1778331600-1778337000@discoverclarioncounty.com
SUMMARY:Mother's Day Naturalist Tea Talk
DESCRIPTION:Hey moms\, looking for some high tea time with an environmentalist spin? Sample teas made from plants in your backyard in order to learn about their health benefits and traditional uses. Weather permitting\, the tour will begin at the library and will involve walking around town as you learn about plant identification. Be sure to wear comfortable walking shoes and dress for the weather. The tour will end at the library for a tea sampling session. Please register by calling the library at 814-797-1054 or by emailing knoxpubliclibrary@gmail.com
URL:https://discoverclarioncounty.com/event/mothers-day-tea-talk/
LOCATION:Knox Public Library\, 305 N Main Street\, Knox\, PA
ATTACH;FMTTYPE=application/pdf:https://discoverclarioncounty.com/wp-content/uploads/2026/04/Mothers-Day-Tea-Talk.pdf
END:VEVENT
BEGIN:VEVENT
DTSTART;TZID=America/New_York:20260509T133000
DTEND;TZID=America/New_York:20260509T143000
DTSTAMP:20260422T062139
CREATED:20260415T155435Z
LAST-MODIFIED:20260415T155605Z
UID:8211-1778333400-1778337000@discoverclarioncounty.com
SUMMARY:Cook Forest Sound Bath Experience
DESCRIPTION:The Hush & Hum Meditation Center will be hosting a one hour session of crystal and Himalayan singing bowls in Cook Forest State Park on May 9th\, 2026. Space is limited\, so be sure to reach out as soon as possible! The exact meeting location will be sent to registrants ahead of the event. \nReserve your spot by emailing hushandhumsoundbaths@gmail.com
URL:https://discoverclarioncounty.com/event/cook-forest-sound-bath-experience/
LOCATION:Cook Forest State Park\, 100 RT 36\, Cooksburg\, PA\, 16217\, United States
ATTACH;FMTTYPE=image/jpeg:https://discoverclarioncounty.com/wp-content/uploads/2026/04/hush-and-hum.jpg
END:VEVENT
BEGIN:VEVENT
DTSTART;TZID=America/New_York:20260510T133000
DTEND;TZID=America/New_York:20260510T143000
DTSTAMP:20260422T062139
CREATED:20260415T155553Z
LAST-MODIFIED:20260415T155553Z
UID:8217-1778419800-1778423400@discoverclarioncounty.com
SUMMARY:Cook Forest: Hums for Mums Mother's Day Event
DESCRIPTION:The Hush & Hum Meditation Center will be hosting a one hour session of crystal and Himalayan singing bowls in Cook Forest State Park on May 10th\, 2026 to celebrate and uplift moms over the Mother’s Day weekend. Space is limited\, so be sure to reach out as soon as possible! The exact meeting location will be sent to registrants ahead of the event. \nReserve your spot by emailing hushandhumsoundbaths@gmail.com
URL:https://discoverclarioncounty.com/event/hums-for-mums-mothers-day/
LOCATION:Cook Forest State Park\, 100 RT 36\, Cooksburg\, PA\, 16217\, United States
ATTACH;FMTTYPE=image/jpeg:https://discoverclarioncounty.com/wp-content/uploads/2026/04/hush-and-hum.jpg
END:VEVENT
BEGIN:VEVENT
DTSTART;TZID=America/New_York:20260513T180000
DTEND;TZID=America/New_York:20260513T193000
DTSTAMP:20260422T062139
CREATED:20260413T195050Z
LAST-MODIFIED:20260413T195103Z
UID:8174-1778695200-1778700600@discoverclarioncounty.com
SUMMARY:Audubon Society: Alaska Birding Lecture featuring Tom Kuehl
DESCRIPTION:Tom and Janet Kuehl were on the Wildside Nature Tours ALASKA BIRDING tour in June 2025. Tom will present a photographic tour of the flora and fauna of the rugged coastline\, expansive tundra habitat and wildlife\, and summer colors of Nome and the surrounding area. The tour tallied 91 bird and 9 mammal species\, and Tom will share his photographic highlights from among the most spectacular of these species. If time allows Tom will be prepared to share a few more of the highlights from the other areas they visited on the Tour. \nTom and Janet are longtime members of very many Western Pennsylvania bird and nature clubs\, and Audubon chapters. Tom and Janet became avid birders in the late 1990’s and are prolific participants in citizen science projects – Christmas Bird Counts\, Pennsylvania’s Winter Raptors Survey Project\, Breeding Bird Surveys (now retired) and served as regional coordinators in the Second Pennsylvania Breeding Bird Atlas. \nPhoto Credits: Tom Kuehl
URL:https://discoverclarioncounty.com/event/audubon-society-alaska-birding-lecture-featuring-tom-kuehl/
LOCATION:Clarion Free Library\, 644 Main Street\, Clarion\, PA\, 16214
ATTACH;FMTTYPE=image/avif:https://discoverclarioncounty.com/wp-content/uploads/2026/04/tom-kuehl-picture-from-lecture.avif
END:VEVENT
BEGIN:VEVENT
DTSTART;TZID=America/New_York:20260514T183000
DTEND;TZID=America/New_York:20260514T203000
DTSTAMP:20260422T062139
CREATED:20260409T150403Z
LAST-MODIFIED:20260409T150403Z
UID:8137-1778783400-1778790600@discoverclarioncounty.com
SUMMARY:Seed to Supper | Penn State Master Gardeners Workshops
DESCRIPTION:Learn to grow the food your family eats! Seed to Supper is a hands-on\, beginner friendly gardening program that teaches adults how to grow fresh\, healthy vegetables on a budget. Participants will learn essential gardening skills from planning and planting to garden care and harvest. \nParticipants must commit to attending all five classes. Register by calling 814-802-1022 or emailing hhg5050@psu.edu
URL:https://discoverclarioncounty.com/event/seed-to-supper-penn-state-master-gardeners-workshops-2/
LOCATION:YMCA\, 499 Mayfield Road\, Clarion\, PA
ATTACH;FMTTYPE=image/webp:https://discoverclarioncounty.com/wp-content/uploads/2026/04/master-gardeners.webp
END:VEVENT
BEGIN:VEVENT
DTSTART;TZID=America/New_York:20260516T090000
DTEND;TZID=America/New_York:20260516T120000
DTSTAMP:20260422T062139
CREATED:20260414T142411Z
LAST-MODIFIED:20260414T142427Z
UID:8190-1778922000-1778932800@discoverclarioncounty.com
SUMMARY:Clarion Conservation District: Forestry Walk
DESCRIPTION:Join the Clarion Conservation District\, Department of Conservation and Natural Resources (DCNR)\, Cook Forest Conservancy\, Penn State Extension\, and a forester from the Pennsylvania Department of Agriculture for a forestry walk covering topics such as the benefits of trees pertaining to climate change such as forest carbon sequestration\, impacts to soil temperature/health\, and climatic history records that can found through tree ring analysis and other data; common invasive species and  how to remove/ prevent them following integrated pest management (IPM) practices; and climate change impacts on tree species distribution/populations. \n\nDirected towards 18+ years old. A FREE native tree and tree tube will be given to the first 25 Clarion County residents that register AND attend. 5 FREE kits for mechanical removal of invasive species will be raffled off at the program\, eligible to Clarion County residents who attend and complete a post-program survey. \n\n\nRegister by May 13th\, 2026. \n\n\nQuestions? Contact the Clarion Conservation District at 814-393-6147
URL:https://discoverclarioncounty.com/event/clarion-conservation-district-forestry-walk/
LOCATION:Rimersburg Rod & Gun Club\, 442 E Rod and Gun Club Rd\, Rimersburg
ATTACH;FMTTYPE=image/avif:https://discoverclarioncounty.com/wp-content/uploads/2026/04/forestry-walk.avif
END:VEVENT
BEGIN:VEVENT
DTSTART;TZID=America/New_York:20260517T110000
DTEND;TZID=America/New_York:20260517T140000
DTSTAMP:20260422T062139
CREATED:20260413T202813Z
LAST-MODIFIED:20260414T140242Z
UID:8180-1779015600-1779026400@discoverclarioncounty.com
SUMMARY:2026 Kayaking Tour | National Scenic North Country Trail
DESCRIPTION:Enjoy a guided kayaking trip along the Clarion River. Meet at the Gravel Lick canoe launch for a 7-mile ride and a beautiful day on the water! \nCanoe launch coordinates: 41.30493642162479\, -79.24469525728134
URL:https://discoverclarioncounty.com/event/kayaking-tour-national-scenic-north-country-trail/
LOCATION:Gravel Lick Canoe Launch
ATTACH;FMTTYPE=image/jpeg:https://discoverclarioncounty.com/wp-content/uploads/2026/04/north-country-trail.jpg
ORGANIZER;CN="North Country Trail - Clarion Chapter":MAILTO:lsjcraig@gmail.com
END:VEVENT
BEGIN:VEVENT
DTSTART;TZID=America/New_York:20260517T170000
DTEND;TZID=America/New_York:20260517T190000
DTSTAMP:20260422T062139
CREATED:20260107T181050Z
LAST-MODIFIED:20260107T181927Z
UID:7158-1779037200-1779044400@discoverclarioncounty.com
SUMMARY:Friends of Cook Forest: Women's Hike Series
DESCRIPTION:Enjoy an evening nurturing your mental and physical health. Moderate level hiking. Approximately 2 hours long.  Open to all women (ages 14 & up). Please meet at the Nuthole Pavilion located at Ridge Campground. For more information\, please contact Meredith Reinhart at (814)-319-4621.
URL:https://discoverclarioncounty.com/event/friends-of-cook-forest-womens-hike-series-3/
LOCATION:Ridge Campground\, Leeper\, PA
ATTACH;FMTTYPE=image/jpeg:https://discoverclarioncounty.com/wp-content/uploads/2025/06/greg-rosenke-OqP4uMDQ1e0-unsplash.jpg
ORGANIZER;CN="Friends of Cook Forest":MAILTO:friendsofcookforest@gmail.com
END:VEVENT
BEGIN:VEVENT
DTSTART;TZID=America/New_York:20260521T183000
DTEND;TZID=America/New_York:20260521T203000
DTSTAMP:20260422T062139
CREATED:20260409T150419Z
LAST-MODIFIED:20260409T150419Z
UID:8138-1779388200-1779395400@discoverclarioncounty.com
SUMMARY:Seed to Supper | Penn State Master Gardeners Workshops
DESCRIPTION:Learn to grow the food your family eats! Seed to Supper is a hands-on\, beginner friendly gardening program that teaches adults how to grow fresh\, healthy vegetables on a budget. Participants will learn essential gardening skills from planning and planting to garden care and harvest. \nParticipants must commit to attending all five classes. Register by calling 814-802-1022 or emailing hhg5050@psu.edu
URL:https://discoverclarioncounty.com/event/seed-to-supper-penn-state-master-gardeners-workshops-3/
LOCATION:YMCA\, 499 Mayfield Road\, Clarion\, PA
ATTACH;FMTTYPE=image/webp:https://discoverclarioncounty.com/wp-content/uploads/2026/04/master-gardeners.webp
END:VEVENT
BEGIN:VEVENT
DTSTART;VALUE=DATE:20260522
DTEND;VALUE=DATE:20260524
DTSTAMP:20260422T062139
CREATED:20260102T210925Z
LAST-MODIFIED:20260102T211100Z
UID:7129-1779408000-1779580799@discoverclarioncounty.com
SUMMARY:Fryburg Mayfest
DESCRIPTION:Mayfest is a family-friendly festival that happens over Memorial Day weekend. It celebrates the heritage of the small communities of Fryburg and Marble\, Pennsylvania\, featuring Mayfest Motor Mayhem\, a 5k run/walk\, a tour of the historic St. Michael’s church\, movie nights\, food vendors\, and more. More information to come as the dates approach!
URL:https://discoverclarioncounty.com/event/fryburg-mayfest/
LOCATION:St. Michael’s Church\, 18765 PA-208\, Fryburg\, PA\, 16326\, United States
ATTACH;FMTTYPE=image/jpeg:https://discoverclarioncounty.com/wp-content/uploads/2026/01/MayFest_July2024_015.jpg
END:VEVENT
BEGIN:VEVENT
DTSTART;VALUE=DATE:20260522
DTEND;VALUE=DATE:20260525
DTSTAMP:20260422T062139
CREATED:20260408T173259Z
LAST-MODIFIED:20260408T173512Z
UID:8124-1779408000-1779667199@discoverclarioncounty.com
SUMMARY:2026 Cook Forest Living History Weekend
DESCRIPTION:Please join us for a fun filled weekend of living history as we celebrate America’s 250th birthday as we journey through  various historical eras of the United States:  French & Indian War\, Colonial Period\, Revolutionary War\, and Civil War.  Living historian and master story-teller Paul Stillman\, historical interpreters Dave Clark and John King\, and Grammy nominated singer-song writer-storyteller\, Ray Owen\, with special guest appearances from President Abraham Lincoln and Benjamin Franklin\, will take us through noteworthy periods of American history through first person character portrayals\, hands-on demonstrations\, and song. \nFriday\, May 22 from 8:00-9:00pm \n‘An Evening with President Lincoln and the First Lady’ \nPlease bring your chairs and blankets and meet at the Ridge Camp Park Amphitheater for an evening with Mr. & Mrs Lincoln\, learning how they met before his tumultuous presidential career.  Conducted by John King\, lifetime member of Association of Lincoln Presenters\, and 2013 look-alike contest winner at the Shriver House Museum in Gettysburg. \nSaturday\, May 23 from 9:00-10:30am \n‘Lincoln’s Inaugural Trip to Washington’ \nJoin President Abraham Lincoln and the First Lady as they reminisce about his trying cross country inaugural railroad trip across America to become the 16th President of the United States.  Please bring your camp chairs and meet at the Log Cabin Inn Environmental Learning Classroom. \nSaturday\, May 23 from 11:30am-12:30pm \nPaul Stillman and Dave Clark as ‘The North Meets South’ \nCome see the Civil War through a New York regimental line soldier and a rebel of the Army of Northern Virginia.  Please bring your camp chairs and meet at the Log Cabin Inn Environmental Learning Classroom. \nSaturday\, May 23 from 1:00-2:00pm \nM. Luthringer as a ‘1750s French Marine’ \nWe are looking for a few good men to learn how to march and fight for King Louis.  Be prepared to make your mark.  Two opposable teeth required. Vive le Roi!!! Please meet at the Log Cabin Inn Environmental Learning Classroom. \nSaturday\, May 23 from 3:00-4:30pm \nPaul Stillman as a ‘Seneca Indian’  \nA Native American visits us from the past on his trip from New York as he travels south along the historic Olean Trail.  Please bring your camp chairs and meet at the Log Cabin Inn Environmental Learning Classroom where he will be preparing for his trip. \nSaturday\, May 23 from 8:00-9:00pm \n‘An Evening with Ben Franklin’ by Paul Stillman \nOne of the founding fathers of our country.  Science\, glass music\, and philosophy are only part of Doctor Franklin’s life.  Join the elderly statesman as he reminisces about his involvement in the French & Indian forts of the 1750’s.  Please bring your chairs & blankets and meet at the Ridge Camp Park Amphitheater. \nSunday\, May 24 from 1:00-2:00pm \nPaul Stillman and Dave Clark as ‘Patriot Meets Loyalist: Friends No More!’ \nIt was called a Revolutionary War\, but it was also a civil war; family against family\, friend against friend.  Please bring your camp chairs and meet at the Log Cabin Inn Environmental Learning Classroom. \nSunday\, May 24 from 2:30-330pm \nPaul Stillman as a ‘Colonial Craftsman’ \nLearn how things were made during the early part of the 18th century during a quill and bamboo pen fabrication workshop.  Please bring your camp chairs at meet at the Log Cabin Inn Environmental Learning Classroom. \nSunday\, May 24 from 4:00-5:30pm \n‘Colonial Life as a Child’ by the Noel Family \nJoin the Noels as they discuss educational practices of Colonial America\, the daily chores of children\, and the games they played.  You will have the opportunity to write with a quill pen\, gather eggs and the day’s water supply\, walk on stilts\, play graces\, trap ball\, and dress up.  Bring your kids and camp chairs to the Log Cabin Inn Environmental   Learning Classroom for a Colonial education experience with your kids in mind. \nSunday\, May 24 from 8:00-9:30pm \nRay Owen\, GRAMMY nominated singer\, songwriter\, and storyteller\, will be presenting ‘Hats Off to America’ at the Ridge Camp Park Amphitheater. \nTake a musical journey through history with a crew of colorful characters wearing an array of period hats that step out of history and onto the stage.  A spirited American odyssey that ventures from the steam engine to the search engine\, the Buffalo chips to the microchips\, engaging the past to enlighten our future. Don’t forget your chairs and blankets! \nMore Events in Cook Forest State Park\n 
URL:https://discoverclarioncounty.com/event/2026-cook-forest-living-history-week/
LOCATION:Cook Forest State Park\, 100 RT 36\, Cooksburg\, PA\, 16217\, United States
ATTACH;FMTTYPE=image/jpeg:https://discoverclarioncounty.com/wp-content/uploads/2026/04/db527bc752296e5749241be66a0ddaf9ffd4790a.jpg
END:VEVENT
BEGIN:VEVENT
DTSTART;TZID=America/New_York:20260523T090000
DTEND;TZID=America/New_York:20260523T110000
DTSTAMP:20260422T062139
CREATED:20260413T194532Z
LAST-MODIFIED:20260413T194532Z
UID:8171-1779526800-1779534000@discoverclarioncounty.com
SUMMARY:Audubon Society: Piney Tract Tour
DESCRIPTION:On Saturday\, May 23\, Michael Leahy will show participants some of the highlights around a very special place in Clarion County – State Game Land #330\, known as Piney Tract. Piney Tract is a 2\,300-acre reclaimed strip mine located in central Clarion County that holds arguably the densest population of Henlow’s Sparrows and other grassland breeding birds in Pennsylvania and likely\, the eastern United States. It has been designated as a Global Important Bird Area (#21). \nWe will walk a couple of areas here and then drive to a couple of other areas nearby to look for other birds. Some sparrow species to be expected are Henslow’s\, Savanah\, Grasshopper\, Clay-colored and possibly Vesper Sparrows. Northern Harrier\, Kestrel\, Bobolink\, Prairie Warbler\, and Eastern Meadowlark are fairly common. Breeding populations of Upland Sandpiper and Short-eared Owls have been documented
URL:https://discoverclarioncounty.com/event/audubon-society-piney-tract-tour/
LOCATION:41°08’49.0″N 79°29’57.0″W
ATTACH;FMTTYPE=image/avif:https://discoverclarioncounty.com/wp-content/uploads/2026/04/important-bird-area-piney-game-lands.avif
END:VEVENT
BEGIN:VEVENT
DTSTART;TZID=America/New_York:20260523T133000
DTEND;TZID=America/New_York:20260523T143000
DTSTAMP:20260422T062139
CREATED:20260415T155726Z
LAST-MODIFIED:20260415T155726Z
UID:8218-1779543000-1779546600@discoverclarioncounty.com
SUMMARY:Cook Forest: Memorial Day Forest Sound Bath Experience
DESCRIPTION:The Hush & Hum Meditation Center will be hosting a one hour session of crystal and Himalayan singing bowls in Cook Forest State Park on May 23rd\, 2026. Space is limited\, so be sure to reach out as soon as possible! The exact meeting location will be sent to registrants ahead of the event. \nReserve your spot by emailing hushandhumsoundbaths@gmail.com
URL:https://discoverclarioncounty.com/event/cook-forest-memorial-day-forest-sound-bath-experience/
LOCATION:Cook Forest State Park\, 100 RT 36\, Cooksburg\, PA\, 16217\, United States
ATTACH;FMTTYPE=image/jpeg:https://discoverclarioncounty.com/wp-content/uploads/2026/04/hush-and-hum.jpg
END:VEVENT
BEGIN:VEVENT
DTSTART;TZID=America/New_York:20260531T210000
DTEND;TZID=America/New_York:20260531T220000
DTSTAMP:20260422T062139
CREATED:20260415T160657Z
LAST-MODIFIED:20260415T160657Z
UID:8219-1780261200-1780264800@discoverclarioncounty.com
SUMMARY:Cook Forest: "Once in a Blue Moon" Chakra Experience
DESCRIPTION:The Hush & Hum Meditation Center will be hosting a one hour session of crystal and Himalayan singing bowls in Cook Forest State Park on May 31st\, 2026. The event will be focused on your chakras in honor of the second full moon\, which is a rare occurrence. \nSpace is limited\, so be sure to reach out as soon as possible! The exact meeting location will be sent to registrants ahead of the event. \nReserve your spot by emailing hushandhumsoundbaths@gmail.com
URL:https://discoverclarioncounty.com/event/cook-forest-once-in-a-blue-moon-chakra-experience/
LOCATION:Cook Forest State Park\, 100 RT 36\, Cooksburg\, PA\, 16217\, United States
ATTACH;FMTTYPE=image/jpeg:https://discoverclarioncounty.com/wp-content/uploads/2026/04/hush-and-hum.jpg
END:VEVENT
END:VCALENDAR