BEGIN:VCALENDAR
VERSION:2.0
PRODID:-//Clarion County - ECPv6.15.20//NONSGML v1.0//EN
CALSCALE:GREGORIAN
METHOD:PUBLISH
X-WR-CALNAME:Clarion County
X-ORIGINAL-URL:https://discoverclarioncounty.com
X-WR-CALDESC:Events for Clarion County
REFRESH-INTERVAL;VALUE=DURATION:PT1H
X-Robots-Tag:noindex
X-PUBLISHED-TTL:PT1H
BEGIN:VTIMEZONE
TZID:America/New_York
BEGIN:DAYLIGHT
TZOFFSETFROM:-0500
TZOFFSETTO:-0400
TZNAME:EDT
DTSTART:20250309T070000
END:DAYLIGHT
BEGIN:STANDARD
TZOFFSETFROM:-0400
TZOFFSETTO:-0500
TZNAME:EST
DTSTART:20251102T060000
END:STANDARD
BEGIN:DAYLIGHT
TZOFFSETFROM:-0500
TZOFFSETTO:-0400
TZNAME:EDT
DTSTART:20260308T070000
END:DAYLIGHT
BEGIN:STANDARD
TZOFFSETFROM:-0400
TZOFFSETTO:-0500
TZNAME:EST
DTSTART:20261101T060000
END:STANDARD
BEGIN:DAYLIGHT
TZOFFSETFROM:-0500
TZOFFSETTO:-0400
TZNAME:EDT
DTSTART:20270314T070000
END:DAYLIGHT
BEGIN:STANDARD
TZOFFSETFROM:-0400
TZOFFSETTO:-0500
TZNAME:EST
DTSTART:20271107T060000
END:STANDARD
END:VTIMEZONE
BEGIN:VEVENT
DTSTART;VALUE=DATE:20260331
DTEND;VALUE=DATE:20260401
DTSTAMP:20260422T082606
CREATED:20260211T161353Z
LAST-MODIFIED:20260227T192824Z
UID:7609-1774915200-1775001599@discoverclarioncounty.com
SUMMARY:Noticing Changes: Invasive Species
DESCRIPTION:Join the Clarion Conservation District for a seminar on invasive species. All participants will receive a free field guide and native plant. \nNEW DATE: Originally scheduled for March 31st\, this event will now take place in April. A new date\, time\, and location will be announced in the coming weeks. \nQuestions? Contact event organizer\, Hannah\, at hbequeathccd@gmail.com or call 814-393-6147.
URL:https://discoverclarioncounty.com/event/noticing-changes-invasive-species/
LOCATION:Rimersburg Rod & Gun Club\, 442 E Rod and Gun Club Rd\, Rimersburg
ATTACH;FMTTYPE=image/avif:https://discoverclarioncounty.com/wp-content/uploads/2026/02/photo-1747109774450-c2b3408f2ce0.avif
END:VEVENT
END:VCALENDAR