BEGIN:VCALENDAR
VERSION:2.0
PRODID:-//Clarion County - ECPv6.15.20//NONSGML v1.0//EN
CALSCALE:GREGORIAN
METHOD:PUBLISH
X-WR-CALNAME:Clarion County
X-ORIGINAL-URL:https://discoverclarioncounty.com
X-WR-CALDESC:Events for Clarion County
REFRESH-INTERVAL;VALUE=DURATION:PT1H
X-Robots-Tag:noindex
X-PUBLISHED-TTL:PT1H
BEGIN:VTIMEZONE
TZID:America/New_York
BEGIN:DAYLIGHT
TZOFFSETFROM:-0500
TZOFFSETTO:-0400
TZNAME:EDT
DTSTART:20250309T070000
END:DAYLIGHT
BEGIN:STANDARD
TZOFFSETFROM:-0400
TZOFFSETTO:-0500
TZNAME:EST
DTSTART:20251102T060000
END:STANDARD
BEGIN:DAYLIGHT
TZOFFSETFROM:-0500
TZOFFSETTO:-0400
TZNAME:EDT
DTSTART:20260308T070000
END:DAYLIGHT
BEGIN:STANDARD
TZOFFSETFROM:-0400
TZOFFSETTO:-0500
TZNAME:EST
DTSTART:20261101T060000
END:STANDARD
BEGIN:DAYLIGHT
TZOFFSETFROM:-0500
TZOFFSETTO:-0400
TZNAME:EDT
DTSTART:20270314T070000
END:DAYLIGHT
BEGIN:STANDARD
TZOFFSETFROM:-0400
TZOFFSETTO:-0500
TZNAME:EST
DTSTART:20271107T060000
END:STANDARD
END:VTIMEZONE
BEGIN:VEVENT
DTSTART;VALUE=DATE:20261003
DTEND;VALUE=DATE:20261012
DTSTAMP:20260420T084226
CREATED:20260102T204211Z
LAST-MODIFIED:20260102T204211Z
UID:7126-1790985600-1791763199@discoverclarioncounty.com
SUMMARY:The Autumn Leaf Festival
DESCRIPTION:Experience the Splendor of Autumn in a Picturesque Small Town Setting! \nThe Autumn Leaf Festival is a globally award-winning event and a staple of Clarion County\, tracing its origins back to 1953. It is one of the largest daytime festivals in Pennsylvania\, attracting over half a million people each year. Held over nine days\, the celebration features unique events such as the Tournament of Leaves Parade\, a massive craft show and sale\, an automotive light and sound competition\, an antique tractor show\, and cultural and community nights from Penn West Clarion University. Enjoy the stunning autumn colors while experiencing entertainment for all ages. Locals and visitors alike flock to this one-of-a-kind festival in the scenic Appalachian Mountains. \nMore information to come as we reach closer to the 2026 date!
URL:https://discoverclarioncounty.com/event/the-autumn-leaf-festival/
LOCATION:Downtown Clarion\, Clarion\, PA\, 16214\, United States
ATTACH;FMTTYPE=image/png:https://discoverclarioncounty.com/wp-content/uploads/2024/07/ALF-1.png
END:VEVENT
END:VCALENDAR