BEGIN:VCALENDAR
VERSION:2.0
PRODID:-//Clarion County - ECPv6.15.20//NONSGML v1.0//EN
CALSCALE:GREGORIAN
METHOD:PUBLISH
X-WR-CALNAME:Clarion County
X-ORIGINAL-URL:https://discoverclarioncounty.com
X-WR-CALDESC:Events for Clarion County
REFRESH-INTERVAL;VALUE=DURATION:PT1H
X-Robots-Tag:noindex
X-PUBLISHED-TTL:PT1H
BEGIN:VTIMEZONE
TZID:America/New_York
BEGIN:DAYLIGHT
TZOFFSETFROM:-0500
TZOFFSETTO:-0400
TZNAME:EDT
DTSTART:20240310T070000
END:DAYLIGHT
BEGIN:STANDARD
TZOFFSETFROM:-0400
TZOFFSETTO:-0500
TZNAME:EST
DTSTART:20241103T060000
END:STANDARD
BEGIN:DAYLIGHT
TZOFFSETFROM:-0500
TZOFFSETTO:-0400
TZNAME:EDT
DTSTART:20250309T070000
END:DAYLIGHT
BEGIN:STANDARD
TZOFFSETFROM:-0400
TZOFFSETTO:-0500
TZNAME:EST
DTSTART:20251102T060000
END:STANDARD
BEGIN:DAYLIGHT
TZOFFSETFROM:-0500
TZOFFSETTO:-0400
TZNAME:EDT
DTSTART:20260308T070000
END:DAYLIGHT
BEGIN:STANDARD
TZOFFSETFROM:-0400
TZOFFSETTO:-0500
TZNAME:EST
DTSTART:20261101T060000
END:STANDARD
END:VTIMEZONE
BEGIN:VEVENT
DTSTART;TZID=America/New_York:20250704T110000
DTEND;TZID=America/New_York:20250704T160000
DTSTAMP:20260425T132738
CREATED:20250404T202146Z
LAST-MODIFIED:20250404T202146Z
UID:3760-1751626800-1751644800@discoverclarioncounty.com
SUMMARY:St. Joseph's 86th Annual 4th of July Celebration
DESCRIPTION:St. Joseph’s 86th Annual 4th of July Celebration\nJuly 4th 11 AM – 4 PM Parish Grounds – 112 Rectory Lane – Lucinda PA\nI-80 Exit 60 – Rt. 66 North 10 Miles \nPost-Festival Finale – St. Joseph’s Liberty 5K Run/Walk – July 5th 8 AM\nLucinda Train Station – 1040 Lander Drive – Lucinda \n• Clarion County’s Oldest Independence Day Celebration!\n• Traditional all-you-can-eat Chicken & Ham Dinners – Homemade pie & soup with our famous\nhomemade noodles.\n• Games of skill & chance for all ages.\n• Live Entertainment\n• Festival Food\n• Bingo\n• Over $40\,000 in Cash & Prizes including many handmade quilts\, an e-bike\, outdoor fireplace and a\n$5\,000 grand prize.\n• Event held rain or shine – canopy covered – handicap accessible – parking shuttle available.\n• Nearly 2\,000 dinners served each year. Dining Room serving 11 AM – 3 PM; Takeouts available 11 AM\nuntil 2 PM; Dinner ticket sales open at 10 AM.\nAdults: $13 Children 6 – 12: $6 Children under 6: Free.\n• Festival proceeds benefit St. Joseph Catholic School. Come Celebrate!\n• Info: watch4deercatholic.church\, Facebook @stjoseph4thofjuly or 814-226-7288.
URL:https://discoverclarioncounty.com/event/st-josephs-86th-annual-4th-of-july-celebration/
LOCATION:St. Joseph Church\, 112 Rectory Lane\, Lucinda\, P\, 16235\, United States
ATTACH;FMTTYPE=image/jpeg:https://discoverclarioncounty.com/wp-content/uploads/2025/04/2015-Photo-Festival-14-2.jpg
ORGANIZER;CN="St. Joseph Church":MAILTO:secretary@stjosephlucinda.com
END:VEVENT
END:VCALENDAR