BEGIN:VCALENDAR
VERSION:2.0
PRODID:-//Clarion County - ECPv6.15.20//NONSGML v1.0//EN
CALSCALE:GREGORIAN
METHOD:PUBLISH
X-WR-CALNAME:Clarion County
X-ORIGINAL-URL:https://discoverclarioncounty.com
X-WR-CALDESC:Events for Clarion County
REFRESH-INTERVAL;VALUE=DURATION:PT1H
X-Robots-Tag:noindex
X-PUBLISHED-TTL:PT1H
BEGIN:VTIMEZONE
TZID:America/New_York
BEGIN:DAYLIGHT
TZOFFSETFROM:-0500
TZOFFSETTO:-0400
TZNAME:EDT
DTSTART:20250309T070000
END:DAYLIGHT
BEGIN:STANDARD
TZOFFSETFROM:-0400
TZOFFSETTO:-0500
TZNAME:EST
DTSTART:20251102T060000
END:STANDARD
BEGIN:DAYLIGHT
TZOFFSETFROM:-0500
TZOFFSETTO:-0400
TZNAME:EDT
DTSTART:20260308T070000
END:DAYLIGHT
BEGIN:STANDARD
TZOFFSETFROM:-0400
TZOFFSETTO:-0500
TZNAME:EST
DTSTART:20261101T060000
END:STANDARD
BEGIN:DAYLIGHT
TZOFFSETFROM:-0500
TZOFFSETTO:-0400
TZNAME:EDT
DTSTART:20270314T070000
END:DAYLIGHT
BEGIN:STANDARD
TZOFFSETFROM:-0400
TZOFFSETTO:-0500
TZNAME:EST
DTSTART:20271107T060000
END:STANDARD
END:VTIMEZONE
BEGIN:VEVENT
DTSTART;TZID=America/New_York:20260221T113000
DTEND;TZID=America/New_York:20260221T140000
DTSTAMP:20260420T083149
CREATED:20251210T202034Z
LAST-MODIFIED:20260219T135428Z
UID:7008-1771673400-1771682400@discoverclarioncounty.com
SUMMARY:Snowman in the Forest Day 2026 Schedule
DESCRIPTION:Come join us for a day of fun wintry activities along the picturesque National Wild & Scenic Clarion River within Cook Forest State Park.  Various activities will be held at the new River Pavilion by the playground on River Road approximately  1-mile up-river from the RT36 Cooksburg Bridge: \n1130am – Chili Cook-Off (hot & mild divisions) \n1130am-230pm – carriage rides\, sledding\, snowman building\, ice skating (ice skates available) \n1200-100pm – Snowshoe interpretive hike within the old growth forest along Cook Trail\, meet at the new River Pavilion \n100pm – Happy Dog Contest \nCome sample the chili during the ‘Free Chili Cook-Off’\, that is\, after the judges have tried some first.  Hot chocolate and   coffee will be on hand to help take the chill out of your bones.  Enjoy a wonderful day among family and friends in Cooksburg’s winter wonderland.  Event sponsored by the Cook Forest Vacation Bureau.
URL:https://discoverclarioncounty.com/event/snowman-in-the-forest-day/
LOCATION:Cook Forest State Park\, 100 RT 36\, Cooksburg\, PA\, 16217\, United States
ATTACH;FMTTYPE=image/jpeg:https://discoverclarioncounty.com/wp-content/uploads/2025/10/HS_5420best.jpg
END:VEVENT
END:VCALENDAR