BEGIN:VCALENDAR
VERSION:2.0
PRODID:-//Clarion County - ECPv6.15.20//NONSGML v1.0//EN
CALSCALE:GREGORIAN
METHOD:PUBLISH
X-WR-CALNAME:Clarion County
X-ORIGINAL-URL:https://discoverclarioncounty.com
X-WR-CALDESC:Events for Clarion County
REFRESH-INTERVAL;VALUE=DURATION:PT1H
X-Robots-Tag:noindex
X-PUBLISHED-TTL:PT1H
BEGIN:VTIMEZONE
TZID:America/New_York
BEGIN:DAYLIGHT
TZOFFSETFROM:-0500
TZOFFSETTO:-0400
TZNAME:EDT
DTSTART:20240310T070000
END:DAYLIGHT
BEGIN:STANDARD
TZOFFSETFROM:-0400
TZOFFSETTO:-0500
TZNAME:EST
DTSTART:20241103T060000
END:STANDARD
BEGIN:DAYLIGHT
TZOFFSETFROM:-0500
TZOFFSETTO:-0400
TZNAME:EDT
DTSTART:20250309T070000
END:DAYLIGHT
BEGIN:STANDARD
TZOFFSETFROM:-0400
TZOFFSETTO:-0500
TZNAME:EST
DTSTART:20251102T060000
END:STANDARD
BEGIN:DAYLIGHT
TZOFFSETFROM:-0500
TZOFFSETTO:-0400
TZNAME:EDT
DTSTART:20260308T070000
END:DAYLIGHT
BEGIN:STANDARD
TZOFFSETFROM:-0400
TZOFFSETTO:-0500
TZNAME:EST
DTSTART:20261101T060000
END:STANDARD
END:VTIMEZONE
BEGIN:VEVENT
DTSTART;TZID=America/New_York:20250111T100000
DTEND;TZID=America/New_York:20250111T130000
DTSTAMP:20260421T053952
CREATED:20250103T172617Z
LAST-MODIFIED:20250105T012223Z
UID:2667-1736589600-1736600400@discoverclarioncounty.com
SUMMARY:Hiking Tour I North Country National Scenic Trail
DESCRIPTION:The Clarion Chapter of the North Country National Scenic Trail hosts monthly hikes throughout the year. These guided hikes occur on the second Saturday of each month at 10:00 a.m.\, free of charge and open to all. \nThis Saturday\, hikers will gather in Foxburg\, PA for two options: \n8-mile hike: Foxburg to Emlenton and back.\n4-mile hike: Take the shuttle to Emlenton and hike back to Foxburg. \nQuestions? Contact the organizer – Sandy Craig at lsjcraig@gmail.com
URL:https://discoverclarioncounty.com/event/january-11th-second-saturday-hikes/
LOCATION:Foxburg\, 105 RAILROAD ST\, Foxburg\, PA\, 16036\, United States
ATTACH;FMTTYPE=image/jpeg:https://discoverclarioncounty.com/wp-content/uploads/2025/01/jon-tyson-ttVjPvWH3S4-unsplash.jpg
ORGANIZER;CN="North Country Trail - Clarion Chapter":MAILTO:lsjcraig@gmail.com
END:VEVENT
END:VCALENDAR