BEGIN:VCALENDAR
VERSION:2.0
PRODID:-//Clarion County - ECPv6.15.20//NONSGML v1.0//EN
CALSCALE:GREGORIAN
METHOD:PUBLISH
X-WR-CALNAME:Clarion County
X-ORIGINAL-URL:https://discoverclarioncounty.com
X-WR-CALDESC:Events for Clarion County
REFRESH-INTERVAL;VALUE=DURATION:PT1H
X-Robots-Tag:noindex
X-PUBLISHED-TTL:PT1H
BEGIN:VTIMEZONE
TZID:America/New_York
BEGIN:DAYLIGHT
TZOFFSETFROM:-0500
TZOFFSETTO:-0400
TZNAME:EDT
DTSTART:20230312T070000
END:DAYLIGHT
BEGIN:STANDARD
TZOFFSETFROM:-0400
TZOFFSETTO:-0500
TZNAME:EST
DTSTART:20231105T060000
END:STANDARD
BEGIN:DAYLIGHT
TZOFFSETFROM:-0500
TZOFFSETTO:-0400
TZNAME:EDT
DTSTART:20240310T070000
END:DAYLIGHT
BEGIN:STANDARD
TZOFFSETFROM:-0400
TZOFFSETTO:-0500
TZNAME:EST
DTSTART:20241103T060000
END:STANDARD
BEGIN:DAYLIGHT
TZOFFSETFROM:-0500
TZOFFSETTO:-0400
TZNAME:EDT
DTSTART:20250309T070000
END:DAYLIGHT
BEGIN:STANDARD
TZOFFSETFROM:-0400
TZOFFSETTO:-0500
TZNAME:EST
DTSTART:20251102T060000
END:STANDARD
END:VTIMEZONE
BEGIN:VEVENT
DTSTART;TZID=America/New_York:20241108T090000
DTEND;TZID=America/New_York:20241108T180000
DTSTAMP:20260421T070150
CREATED:20241106T203919Z
LAST-MODIFIED:20241106T203919Z
UID:1593-1731056400-1731088800@discoverclarioncounty.com
SUMMARY:Homes for the Holidays
DESCRIPTION:20+ vendors at the Sligo Area Recreation Center\, plus multiple businesses and homes in the Sligo Area. Look out for the shamrock signs.
URL:https://discoverclarioncounty.com/event/homes-for-the-holidays-2/
LOCATION:Sligo Recreation Center\, 448 Colerain Street\, Sligo\, PA\, 16255\, United States
ATTACH;FMTTYPE=image/png:https://discoverclarioncounty.com/wp-content/uploads/2024/11/sligo.png
END:VEVENT
END:VCALENDAR